Package: Statial Version: 1.12.0 Command: /home/biocbuild/bbs-3.22-bioc/R/bin/R CMD INSTALL Statial StartedAt: 2025-11-13 15:24:44 -0500 (Thu, 13 Nov 2025) EndedAt: 2025-11-13 15:25:13 -0500 (Thu, 13 Nov 2025) EllapsedTime: 28.6 seconds RetCode: 0 Status: OK