Package: Statial Version: 1.10.3 Command: /home/biocbuild/R/R/bin/R CMD INSTALL Statial StartedAt: 2025-10-06 20:36:49 -0000 (Mon, 06 Oct 2025) EndedAt: 2025-10-06 20:37:28 -0000 (Mon, 06 Oct 2025) EllapsedTime: 39.3 seconds RetCode: 0 Status: OK