Package: Statial Version: 1.10.3 Command: /home/biocbuild/R/R/bin/R CMD build --keep-empty-dirs --no-resave-data Statial StartedAt: 2025-10-07 05:03:37 -0000 (Tue, 07 Oct 2025) EndedAt: 2025-10-07 05:18:16 -0000 (Tue, 07 Oct 2025) EllapsedTime: 879.3 seconds RetCode: 0 Status: OK PackageFile: Statial_1.10.3.tar.gz PackageFileSize: 9.156 MiB