Package: StabMap Version: 1.4.0 Command: /home/biocbuild/R/R/bin/R CMD INSTALL StabMap StartedAt: 2025-11-10 22:06:07 -0000 (Mon, 10 Nov 2025) EndedAt: 2025-11-10 22:06:34 -0000 (Mon, 10 Nov 2025) EllapsedTime: 27.6 seconds RetCode: 0 Status: OK