Package: StabMap Version: 1.4.0 Command: /home/biocbuild/R/R/bin/R CMD build --keep-empty-dirs --no-resave-data StabMap StartedAt: 2025-11-11 05:36:57 -0000 (Tue, 11 Nov 2025) EndedAt: 2025-11-11 05:42:20 -0000 (Tue, 11 Nov 2025) EllapsedTime: 322.2 seconds RetCode: 0 Status: OK PackageFile: StabMap_1.4.0.tar.gz PackageFileSize: 1.795 MiB