Package: StabMap Version: 1.4.0 Command: /home/biocbuild/bbs-3.22-bioc/R/bin/R CMD check --install=check:StabMap.install-out.txt --library=/home/biocbuild/bbs-3.22-bioc/R/site-library --timings StabMap_1.4.0.tar.gz StartedAt: 2025-11-12 04:41:45 -0500 (Wed, 12 Nov 2025) EndedAt: 2025-11-12 04:50:34 -0500 (Wed, 12 Nov 2025) EllapsedTime: 528.5 seconds RetCode: 0 Status: OK CheckDir: StabMap.Rcheck Warnings: 0