Package: StabMap Version: 1.2.0 Command: /home/biocbuild/R/R/bin/R CMD INSTALL StabMap StartedAt: 2025-09-25 21:13:50 -0000 (Thu, 25 Sep 2025) EndedAt: 2025-09-25 21:14:19 -0000 (Thu, 25 Sep 2025) EllapsedTime: 28.9 seconds RetCode: 0 Status: OK