Package: SpotSweeper Version: 1.6.0 Command: /home/biocbuild/R/R/bin/R CMD INSTALL SpotSweeper StartedAt: 2025-11-20 22:13:43 -0000 (Thu, 20 Nov 2025) EndedAt: 2025-11-20 22:14:38 -0000 (Thu, 20 Nov 2025) EllapsedTime: 54.6 seconds RetCode: 0 Status: OK