Package: SpotSweeper Version: 1.6.0 Command: /home/biocbuild/R/R/bin/R CMD build --keep-empty-dirs --no-resave-data SpotSweeper StartedAt: 2025-11-21 06:14:22 -0000 (Fri, 21 Nov 2025) EndedAt: 2025-11-21 06:17:54 -0000 (Fri, 21 Nov 2025) EllapsedTime: 212.1 seconds RetCode: 0 Status: OK PackageFile: SpotSweeper_1.6.0.tar.gz PackageFileSize: 3.269 MiB