Package: SpotSweeper Version: 1.6.0 Command: /home/biocbuild/bbs-3.22-bioc/R/bin/R CMD INSTALL SpotSweeper StartedAt: 2025-11-14 15:25:50 -0500 (Fri, 14 Nov 2025) EndedAt: 2025-11-14 15:26:33 -0500 (Fri, 14 Nov 2025) EllapsedTime: 43.7 seconds RetCode: 0 Status: OK