Package: SpotSweeper Version: 1.6.0 Command: /home/biocbuild/bbs-3.22-bioc/R/bin/R CMD build --keep-empty-dirs --no-resave-data --md5 SpotSweeper StartedAt: 2025-11-14 20:28:06 -0500 (Fri, 14 Nov 2025) EndedAt: 2025-11-14 20:30:32 -0500 (Fri, 14 Nov 2025) EllapsedTime: 146.1 seconds RetCode: 0 Status: OK PackageFile: SpotSweeper_1.6.0.tar.gz PackageFileSize: 3.403 MiB