Package: SpotSweeper Version: 1.4.0 Command: /home/biocbuild/bbs-3.21-bioc/R/bin/R CMD INSTALL SpotSweeper StartedAt: 2025-10-15 15:23:06 -0400 (Wed, 15 Oct 2025) EndedAt: 2025-10-15 15:23:45 -0400 (Wed, 15 Oct 2025) EllapsedTime: 39.4 seconds RetCode: 0 Status: OK