Package: SpotSweeper Version: 1.4.0 Command: /home/biocbuild/bbs-3.21-bioc/R/bin/R CMD build --keep-empty-dirs --no-resave-data SpotSweeper StartedAt: 2025-10-15 20:08:07 -0400 (Wed, 15 Oct 2025) EndedAt: 2025-10-15 20:10:31 -0400 (Wed, 15 Oct 2025) EllapsedTime: 144.2 seconds RetCode: 0 Status: OK PackageFile: SpotSweeper_1.4.0.tar.gz PackageFileSize: 3.198 MiB