Package: SpotSweeper Version: 1.4.0 Command: rm -rf SpotSweeper.buildbin-libdir && mkdir SpotSweeper.buildbin-libdir && /Users/biocbuild/BBS/utils/build-universal.sh SpotSweeper_1.4.0.tar.gz /Library/Frameworks/R.framework/Resources/bin/R SpotSweeper.buildbin-libdir StartedAt: 2025-10-15 20:41:54 -0400 (Wed, 15 Oct 2025) EndedAt: 2025-10-15 20:42:44 -0400 (Wed, 15 Oct 2025) EllapsedTime: 49.9 seconds RetCode: 0 Status: OK PackageFile: SpotSweeper_1.4.0.tgz PackageFileSize: 3.831 MiB