Package: SpotSweeper Version: 1.4.0 Maintainer: Michael Totty MaintainerEmail: mictott at gmail.com git_url: https://git.bioconductor.org/packages/SpotSweeper git_branch: RELEASE_3_21 git_last_commit: e141a24 git_last_commit_date: 2025-04-15 13:34:31 -0400 (Tue, 15 Apr 2025)