Package: SpotClean Version: 1.12.0 Command: /Library/Frameworks/R.framework/Resources/bin/R CMD INSTALL SpotClean StartedAt: 2025-11-10 15:12:47 -0500 (Mon, 10 Nov 2025) EndedAt: 2025-11-10 15:13:03 -0500 (Mon, 10 Nov 2025) EllapsedTime: 15.5 seconds RetCode: 0 Status: OK