Package: SpotClean Version: 1.12.0 Command: /Library/Frameworks/R.framework/Resources/bin/R CMD build --keep-empty-dirs --no-resave-data SpotClean StartedAt: 2025-11-10 17:53:37 -0500 (Mon, 10 Nov 2025) EndedAt: 2025-11-10 17:55:14 -0500 (Mon, 10 Nov 2025) EllapsedTime: 97.1 seconds RetCode: 0 Status: OK PackageFile: SpotClean_1.12.0.tar.gz PackageFileSize: 4.383 MiB