Package: SpotClean Version: 1.12.0 Command: rm -rf SpotClean.buildbin-libdir && mkdir SpotClean.buildbin-libdir && /Users/biocbuild/BBS/utils/build-universal.sh SpotClean_1.12.0.tar.gz /Library/Frameworks/R.framework/Resources/bin/R SpotClean.buildbin-libdir StartedAt: 2025-11-10 23:38:18 -0500 (Mon, 10 Nov 2025) EndedAt: 2025-11-10 23:38:36 -0500 (Mon, 10 Nov 2025) EllapsedTime: 17.3 seconds RetCode: 0 Status: OK PackageFile: SpotClean_1.12.0.tgz PackageFileSize: 4.451 MiB