Package: SplineDV Version: 1.2.0 Command: /home/biocbuild/bbs-3.22-bioc/R/bin/R CMD INSTALL SplineDV StartedAt: 2025-11-11 15:37:03 -0500 (Tue, 11 Nov 2025) EndedAt: 2025-11-11 15:37:30 -0500 (Tue, 11 Nov 2025) EllapsedTime: 26.7 seconds RetCode: 0 Status: OK