Package: SplineDV Version: 1.2.0 Command: /Library/Frameworks/R.framework/Resources/bin/R CMD INSTALL SplineDV StartedAt: 2025-11-10 15:18:21 -0500 (Mon, 10 Nov 2025) EndedAt: 2025-11-10 15:18:32 -0500 (Mon, 10 Nov 2025) EllapsedTime: 11.2 seconds RetCode: 0 Status: OK