Package: SplineDV Version: 1.2.0 Command: /Library/Frameworks/R.framework/Resources/bin/R CMD build --keep-empty-dirs --no-resave-data SplineDV StartedAt: 2025-11-10 17:52:55 -0500 (Mon, 10 Nov 2025) EndedAt: 2025-11-10 17:54:18 -0500 (Mon, 10 Nov 2025) EllapsedTime: 82.9 seconds RetCode: 0 Status: OK PackageFile: SplineDV_1.2.0.tar.gz PackageFileSize: 2.377 MiB