Package: SplineDV Version: 1.2.0 Command: rm -rf SplineDV.buildbin-libdir && mkdir SplineDV.buildbin-libdir && /Users/biocbuild/BBS/utils/build-universal.sh SplineDV_1.2.0.tar.gz /Library/Frameworks/R.framework/Resources/bin/R SplineDV.buildbin-libdir StartedAt: 2025-11-10 23:38:13 -0500 (Mon, 10 Nov 2025) EndedAt: 2025-11-10 23:38:26 -0500 (Mon, 10 Nov 2025) EllapsedTime: 12.2 seconds RetCode: 0 Status: OK PackageFile: SplineDV_1.2.0.tgz PackageFileSize: 2.417 MiB