Package: SplicingGraphs Version: 1.50.1 Command: /home/biocbuild/R/R/bin/R CMD check --install=check:SplicingGraphs.install-out.txt --library=/home/biocbuild/R/R/site-library --no-vignettes --timings SplicingGraphs_1.50.1.tar.gz StartedAt: 2025-11-11 15:20:27 -0000 (Tue, 11 Nov 2025) EndedAt: 2025-11-11 15:31:33 -0000 (Tue, 11 Nov 2025) EllapsedTime: 666.1 seconds RetCode: 0 Status: WARNINGS CheckDir: SplicingGraphs.Rcheck Warnings: 2