Package: SplicingGraphs Version: 1.50.1 Command: /home/biocbuild/R/R/bin/R CMD build --keep-empty-dirs --no-resave-data SplicingGraphs StartedAt: 2025-11-11 05:30:55 -0000 (Tue, 11 Nov 2025) EndedAt: 2025-11-11 05:36:34 -0000 (Tue, 11 Nov 2025) EllapsedTime: 339.2 seconds RetCode: 0 Status: OK PackageFile: SplicingGraphs_1.50.1.tar.gz PackageFileSize: 4.461 MiB