Package: SplicingGraphs Version: 1.50.1 Command: /home/biocbuild/bbs-3.22-bioc/R/bin/R CMD INSTALL SplicingGraphs StartedAt: 2025-11-11 15:43:41 -0500 (Tue, 11 Nov 2025) EndedAt: 2025-11-11 15:44:22 -0500 (Tue, 11 Nov 2025) EllapsedTime: 40.5 seconds RetCode: 0 Status: OK