Package: SplicingGraphs Version: 1.50.1 Command: /home/biocbuild/bbs-3.22-bioc/R/bin/R CMD build --keep-empty-dirs --no-resave-data --md5 SplicingGraphs StartedAt: 2025-11-11 20:26:33 -0500 (Tue, 11 Nov 2025) EndedAt: 2025-11-11 20:30:41 -0500 (Tue, 11 Nov 2025) EllapsedTime: 247.2 seconds RetCode: 0 Status: OK PackageFile: SplicingGraphs_1.50.1.tar.gz PackageFileSize: 4.476 MiB