Package: SplicingGraphs Version: 1.48.0 Command: /home/biocbuild/bbs-3.21-bioc/R/bin/R CMD check --install=check:SplicingGraphs.install-out.txt --library=/home/biocbuild/bbs-3.21-bioc/R/site-library --timings SplicingGraphs_1.48.0.tar.gz StartedAt: 2025-09-29 04:00:59 -0400 (Mon, 29 Sep 2025) EndedAt: 2025-09-29 04:09:51 -0400 (Mon, 29 Sep 2025) EllapsedTime: 531.6 seconds RetCode: 0 Status: WARNINGS CheckDir: SplicingGraphs.Rcheck Warnings: 2