Package: SplicingGraphs Version: 1.48.0 Command: /Library/Frameworks/R.framework/Resources/bin/R CMD build --keep-empty-dirs --no-resave-data SplicingGraphs StartedAt: 2025-09-25 22:57:28 -0400 (Thu, 25 Sep 2025) EndedAt: 2025-09-25 23:02:52 -0400 (Thu, 25 Sep 2025) EllapsedTime: 324.1 seconds RetCode: 0 Status: OK PackageFile: SplicingGraphs_1.48.0.tar.gz PackageFileSize: 46.1 MiB