Package: SplicingFactory Version: 1.18.0 Command: /home/biocbuild/R/R/bin/R CMD INSTALL SplicingFactory StartedAt: 2025-11-10 21:29:13 -0000 (Mon, 10 Nov 2025) EndedAt: 2025-11-10 21:29:39 -0000 (Mon, 10 Nov 2025) EllapsedTime: 26.8 seconds RetCode: 0 Status: OK