Package: SplicingFactory Version: 1.18.0 Command: /home/biocbuild/R/R/bin/R CMD build --keep-empty-dirs --no-resave-data SplicingFactory StartedAt: 2025-11-11 05:30:43 -0000 (Tue, 11 Nov 2025) EndedAt: 2025-11-11 05:31:28 -0000 (Tue, 11 Nov 2025) EllapsedTime: 45.0 seconds RetCode: 0 Status: OK PackageFile: SplicingFactory_1.18.0.tar.gz PackageFileSize: 527.5 KiB