Package: SplicingFactory Version: 1.16.0 Command: rm -rf SplicingFactory.buildbin-libdir && mkdir SplicingFactory.buildbin-libdir && E:\biocbuild\bbs-3.21-bioc\R\bin\R.exe CMD INSTALL --build --library=SplicingFactory.buildbin-libdir SplicingFactory_1.16.0.tar.gz StartedAt: 2025-08-15 10:23:39 -0400 (Fri, 15 Aug 2025) EndedAt: 2025-08-15 10:24:14 -0400 (Fri, 15 Aug 2025) EllapsedTime: 34.4 seconds RetCode: 0 Status: OK PackageFile: SplicingFactory_1.16.0.zip PackageFileSize: 467.7 KiB