Package: SplicingFactory Version: 1.18.0 Command: /home/biocbuild/bbs-3.22-bioc/R/bin/R CMD check --install=check:SplicingFactory.install-out.txt --library=/home/biocbuild/bbs-3.22-bioc/R/site-library --timings SplicingFactory_1.18.0.tar.gz StartedAt: 2025-11-12 04:33:25 -0500 (Wed, 12 Nov 2025) EndedAt: 2025-11-12 04:35:58 -0500 (Wed, 12 Nov 2025) EllapsedTime: 153.1 seconds RetCode: 0 Status: OK CheckDir: SplicingFactory.Rcheck Warnings: 0