Package: SplicingFactory Version: 1.18.0 Command: /home/biocbuild/bbs-3.22-bioc/R/bin/R CMD build --keep-empty-dirs --no-resave-data --md5 SplicingFactory StartedAt: 2025-11-11 20:26:04 -0500 (Tue, 11 Nov 2025) EndedAt: 2025-11-11 20:26:36 -0500 (Tue, 11 Nov 2025) EllapsedTime: 32.0 seconds RetCode: 0 Status: OK PackageFile: SplicingFactory_1.18.0.tar.gz PackageFileSize: 756.1 KiB