Package: SpliceWiz Version: 1.12.0 Command: /home/biocbuild/R/R/bin/R CMD INSTALL SpliceWiz StartedAt: 2025-11-20 22:19:48 -0000 (Thu, 20 Nov 2025) EndedAt: 2025-11-20 22:22:21 -0000 (Thu, 20 Nov 2025) EllapsedTime: 152.9 seconds RetCode: 0 Status: OK