Package: SpliceWiz Version: 1.12.0 Command: /home/biocbuild/R/R/bin/R CMD build --keep-empty-dirs --no-resave-data SpliceWiz StartedAt: 2025-11-21 06:11:23 -0000 (Fri, 21 Nov 2025) EndedAt: 2025-11-21 06:18:52 -0000 (Fri, 21 Nov 2025) EllapsedTime: 449.2 seconds RetCode: 0 Status: OK PackageFile: SpliceWiz_1.12.0.tar.gz PackageFileSize: 4.244 MiB