Package: SpliceWiz Version: 1.12.0 Command: /home/biocbuild/bbs-3.22-bioc/R/bin/R CMD check --install=check:SpliceWiz.install-out.txt --library=/home/biocbuild/bbs-3.22-bioc/R/site-library --timings SpliceWiz_1.12.0.tar.gz StartedAt: 2025-11-12 04:33:08 -0500 (Wed, 12 Nov 2025) EndedAt: 2025-11-12 04:52:44 -0500 (Wed, 12 Nov 2025) EllapsedTime: 1176.0 seconds RetCode: 0 Status: WARNINGS CheckDir: SpliceWiz.Rcheck Warnings: 1