Package: SpliceWiz Version: 1.12.0 Command: /Library/Frameworks/R.framework/Resources/bin/R CMD INSTALL SpliceWiz StartedAt: 2025-11-20 16:50:16 -0500 (Thu, 20 Nov 2025) EndedAt: 2025-11-20 16:54:13 -0500 (Thu, 20 Nov 2025) EllapsedTime: 236.3 seconds RetCode: 0 Status: OK