Package: SpliceWiz Version: 1.12.0 Command: /Library/Frameworks/R.framework/Resources/bin/R CMD build --keep-empty-dirs --no-resave-data SpliceWiz StartedAt: 2025-11-21 00:07:48 -0500 (Fri, 21 Nov 2025) EndedAt: 2025-11-21 00:19:01 -0500 (Fri, 21 Nov 2025) EllapsedTime: 673.0 seconds RetCode: 0 Status: OK PackageFile: SpliceWiz_1.12.0.tar.gz PackageFileSize: 4.659 MiB