Package: SpliceWiz Version: 1.12.0 Command: rm -rf SpliceWiz.buildbin-libdir && mkdir SpliceWiz.buildbin-libdir && /Users/biocbuild/BBS/utils/build-universal.sh SpliceWiz_1.12.0.tar.gz /Library/Frameworks/R.framework/Resources/bin/R SpliceWiz.buildbin-libdir StartedAt: 2025-11-25 15:23:03 -0500 (Tue, 25 Nov 2025) EndedAt: 2025-11-25 15:27:14 -0500 (Tue, 25 Nov 2025) EllapsedTime: 250.8 seconds RetCode: 0 Status: OK PackageFile: SpliceWiz_1.12.0.tgz PackageFileSize: 5.928 MiB