Package: SpliceWiz Version: 1.12.0 Command: /Library/Frameworks/R.framework/Resources/bin/R CMD INSTALL SpliceWiz StartedAt: 2025-11-03 15:35:52 -0500 (Mon, 03 Nov 2025) EndedAt: 2025-11-03 15:38:14 -0500 (Mon, 03 Nov 2025) EllapsedTime: 142.3 seconds RetCode: 0 Status: OK