Package: SpliceWiz Version: 1.12.0 Command: /Library/Frameworks/R.framework/Resources/bin/R CMD build --keep-empty-dirs --no-resave-data SpliceWiz StartedAt: 2025-11-03 18:56:25 -0500 (Mon, 03 Nov 2025) EndedAt: 2025-11-03 19:03:04 -0500 (Mon, 03 Nov 2025) EllapsedTime: 399.2 seconds RetCode: 0 Status: OK PackageFile: SpliceWiz_1.12.0.tar.gz PackageFileSize: 4.661 MiB