Package: SpliceWiz Version: 1.10.1 Command: /home/biocbuild/R/R/bin/R CMD INSTALL SpliceWiz StartedAt: 2025-09-25 20:52:06 -0000 (Thu, 25 Sep 2025) EndedAt: 2025-09-25 20:54:43 -0000 (Thu, 25 Sep 2025) EllapsedTime: 157.3 seconds RetCode: 0 Status: OK