Package: SpliceWiz Version: 1.10.1 Command: /Library/Frameworks/R.framework/Resources/bin/R CMD INSTALL SpliceWiz StartedAt: 2025-10-13 16:43:48 -0400 (Mon, 13 Oct 2025) EndedAt: 2025-10-13 16:45:46 -0400 (Mon, 13 Oct 2025) EllapsedTime: 117.4 seconds RetCode: 0 Status: OK