Package: SpliceWiz Version: 1.10.1 Command: /Library/Frameworks/R.framework/Resources/bin/R CMD build --keep-empty-dirs --no-resave-data SpliceWiz StartedAt: 2025-10-14 10:15:02 -0400 (Tue, 14 Oct 2025) EndedAt: 2025-10-14 10:22:42 -0400 (Tue, 14 Oct 2025) EllapsedTime: 460.0 seconds RetCode: 0 Status: OK PackageFile: SpliceWiz_1.10.1.tar.gz PackageFileSize: 4.665 MiB