Package: SpliceWiz Version: 1.10.1 Command: rm -rf SpliceWiz.buildbin-libdir && mkdir SpliceWiz.buildbin-libdir && /Users/biocbuild/BBS/utils/build-universal.sh SpliceWiz_1.10.1.tar.gz /Library/Frameworks/R.framework/Resources/bin/R SpliceWiz.buildbin-libdir StartedAt: 2025-10-15 20:40:40 -0400 (Wed, 15 Oct 2025) EndedAt: 2025-10-15 20:42:52 -0400 (Wed, 15 Oct 2025) EllapsedTime: 131.9 seconds RetCode: 0 Status: OK PackageFile: SpliceWiz_1.10.1.tgz PackageFileSize: 5.91 MiB