Package: SpliceWiz Version: 1.10.1 Maintainer: Alex Chit Hei Wong MaintainerEmail: alexchwong.github at gmail.com git_url: https://git.bioconductor.org/packages/SpliceWiz git_branch: RELEASE_3_21 git_last_commit: 2568ef4 git_last_commit_date: 2025-05-08 12:30:24 -0400 (Thu, 08 May 2025)