Package: SpectriPy Version: 1.0.0 Command: /home/biocbuild/bbs-3.22-bioc/R/bin/R CMD INSTALL SpectriPy StartedAt: 2025-11-11 15:19:01 -0500 (Tue, 11 Nov 2025) EndedAt: 2025-11-11 15:19:33 -0500 (Tue, 11 Nov 2025) EllapsedTime: 32.8 seconds RetCode: 0 Status: OK