Package: SpectriPy Version: 1.0.0 Command: /home/biocbuild/bbs-3.22-bioc/R/bin/R CMD check --install=check:SpectriPy.install-out.txt --library=/home/biocbuild/bbs-3.22-bioc/R/site-library --timings SpectriPy_1.0.0.tar.gz StartedAt: 2025-11-12 04:31:49 -0500 (Wed, 12 Nov 2025) EndedAt: 2025-11-12 04:45:08 -0500 (Wed, 12 Nov 2025) EllapsedTime: 798.8 seconds RetCode: 0 Status: OK CheckDir: SpectriPy.Rcheck Warnings: 0