Package: SpectriPy Version: 1.0.0 Command: /home/biocbuild/bbs-3.22-bioc/R/bin/R CMD build --keep-empty-dirs --no-resave-data --md5 SpectriPy StartedAt: 2025-11-11 20:25:03 -0500 (Tue, 11 Nov 2025) EndedAt: 2025-11-11 20:33:53 -0500 (Tue, 11 Nov 2025) EllapsedTime: 529.4 seconds RetCode: 0 Status: OK PackageFile: SpectriPy_1.0.0.tar.gz PackageFileSize: 1.01 MiB