Package: SpectriPy Version: 1.0.0 Command: /Library/Frameworks/R.framework/Resources/bin/R CMD INSTALL SpectriPy StartedAt: 2025-11-10 15:10:12 -0500 (Mon, 10 Nov 2025) EndedAt: 2025-11-10 15:10:22 -0500 (Mon, 10 Nov 2025) EllapsedTime: 9.2 seconds RetCode: 1 Status: ERROR